BEGIN:VCALENDAR
VERSION:2.0
PRODID:-//70.32.23.31//NONSGML kigkonsult.se iCalcreator 2.20//
CALSCALE:GREGORIAN
METHOD:PUBLISH
X-FROM-URL:https://revelationcogic.org/CMS
X-WR-TIMEZONE:America/New_York
BEGIN:VTIMEZONE
TZID:America/New_York
X-LIC-LOCATION:America/New_York
BEGIN:STANDARD
DTSTART:20251102T020000
TZOFFSETFROM:-0400
TZOFFSETTO:-0500
RDATE:20261101T020000
TZNAME:EST
END:STANDARD
BEGIN:DAYLIGHT
DTSTART:20260308T020000
TZOFFSETFROM:-0500
TZOFFSETTO:-0400
TZNAME:EDT
END:DAYLIGHT
END:VTIMEZONE
BEGIN:VEVENT
UID:ai1ec-1018@revelationcogic.org/CMS
DTSTAMP:20260419T133420Z
CATEGORIES:
CONTACT:
DESCRIPTION:
DTSTART;TZID=America/New_York:20230421T200000
RRULE:FREQ=WEEKLY;BYDAY=FR;WKST=MO
SEQUENCE:0
SUMMARY:Friday Night Bible Study
URL:https://revelationcogic.org/CMS/event/friday-night-bible-study/
X-COST-TYPE:free
X-INSTANT-EVENT:1
END:VEVENT
BEGIN:VEVENT
UID:ai1ec-1019@revelationcogic.org/CMS
DTSTAMP:20260419T133420Z
CATEGORIES:
CONTACT:
DESCRIPTION:
DTSTART;TZID=America/New_York:20230423T090000
RRULE:FREQ=WEEKLY;BYDAY=SU;WKST=MO
SEQUENCE:0
SUMMARY:New Convert Class
URL:https://revelationcogic.org/CMS/event/new-convert-class/
X-COST-TYPE:free
X-INSTANT-EVENT:1
END:VEVENT
BEGIN:VEVENT
UID:ai1ec-1020@revelationcogic.org/CMS
DTSTAMP:20260419T133420Z
CATEGORIES:
CONTACT:
DESCRIPTION:
DTSTART;TZID=America/New_York:20230423T090000
RRULE:FREQ=WEEKLY;BYDAY=SU;WKST=MO
SEQUENCE:0
SUMMARY:New Member Class
URL:https://revelationcogic.org/CMS/event/new-member-class/
X-COST-TYPE:free
X-INSTANT-EVENT:1
END:VEVENT
BEGIN:VEVENT
UID:ai1ec-1015@revelationcogic.org/CMS
DTSTAMP:20260419T133420Z
CATEGORIES:
CONTACT:
DESCRIPTION:
DTSTART;TZID=America/New_York:20230423T090000
DTEND;TZID=America/New_York:20230423T100000
RRULE:FREQ=WEEKLY;BYDAY=SU;WKST=MO
SEQUENCE:0
SUMMARY:Sunday School
URL:https://revelationcogic.org/CMS/event/sunday-school/
X-COST-TYPE:free
END:VEVENT
BEGIN:VEVENT
UID:ai1ec-1016@revelationcogic.org/CMS
DTSTAMP:20260419T133420Z
CATEGORIES:
CONTACT:
DESCRIPTION:
DTSTART;TZID=America/New_York:20230423T110000
RRULE:FREQ=WEEKLY;BYDAY=SU;WKST=MO
SEQUENCE:0
SUMMARY:Sunday Morning Worship
URL:https://revelationcogic.org/CMS/event/sunday-morning-worship/
X-COST-TYPE:free
X-INSTANT-EVENT:1
END:VEVENT
BEGIN:VEVENT
UID:ai1ec-1024@revelationcogic.org/CMS
DTSTAMP:20260419T133420Z
CATEGORIES:
CONTACT:
DESCRIPTION:
DTSTART;TZID=America/New_York:20230423T113000
RRULE:FREQ=MONTHLY;BYDAY=4SU
SEQUENCE:0
SUMMARY:Building Fund Sunday
URL:https://revelationcogic.org/CMS/event/building-fund-sunday/
X-COST-TYPE:free
X-INSTANT-EVENT:1
END:VEVENT
BEGIN:VEVENT
UID:ai1ec-1017@revelationcogic.org/CMS
DTSTAMP:20260419T133420Z
CATEGORIES:
CONTACT:
DESCRIPTION:
DTSTART;TZID=America/New_York:20230425T193000
RRULE:FREQ=WEEKLY;BYDAY=TU;WKST=MO
SEQUENCE:0
SUMMARY:Tuesday Evening Service
URL:https://revelationcogic.org/CMS/event/tuesday-evening-service/
X-COST-TYPE:free
X-INSTANT-EVENT:1
END:VEVENT
BEGIN:VEVENT
UID:ai1ec-1025@revelationcogic.org/CMS
DTSTAMP:20260419T133420Z
CATEGORIES:
CONTACT:
DESCRIPTION:
DTSTART;TZID=America/New_York:20230430T113000
RRULE:FREQ=MONTHLY;BYDAY=5SU
SEQUENCE:0
SUMMARY:Youth Sunday
URL:https://revelationcogic.org/CMS/event/youth-sunday/
X-COST-TYPE:free
X-INSTANT-EVENT:1
END:VEVENT
BEGIN:VEVENT
UID:ai1ec-1021@revelationcogic.org/CMS
DTSTAMP:20260419T133420Z
CATEGORIES:
CONTACT:
DESCRIPTION:
DTSTART;TZID=America/New_York:20230507T113000
RRULE:FREQ=MONTHLY;BYDAY=1SU
SEQUENCE:0
SUMMARY:Communion Service Sunday
URL:https://revelationcogic.org/CMS/event/communion-service-and-founders-su
 nday/
X-COST-TYPE:free
X-INSTANT-EVENT:1
END:VEVENT
BEGIN:VEVENT
UID:ai1ec-1022@revelationcogic.org/CMS
DTSTAMP:20260419T133420Z
CATEGORIES:
CONTACT:
DESCRIPTION:
DTSTART;TZID=America/New_York:20230514T113000
RRULE:FREQ=MONTHLY;BYDAY=2SU
SEQUENCE:0
SUMMARY:Women’s Day Service
URL:https://revelationcogic.org/CMS/event/womens-day-service/
X-COST-TYPE:free
X-INSTANT-EVENT:1
END:VEVENT
BEGIN:VEVENT
UID:ai1ec-1023@revelationcogic.org/CMS
DTSTAMP:20260419T133420Z
CATEGORIES:
CONTACT:
DESCRIPTION:
DTSTART;TZID=America/New_York:20230521T110000
RRULE:FREQ=MONTHLY;BYDAY=3SU
SEQUENCE:0
SUMMARY:Pastoral Sunday
URL:https://revelationcogic.org/CMS/event/pastoral-sunday/
X-COST-TYPE:free
X-INSTANT-EVENT:1
END:VEVENT
END:VCALENDAR
